Workbook

Sheet Calc
A1: Fire Pump Head Calculator
A2: BuildMEP.com | Hazen-Williams, equivalent-length fittings, velocity checks, NFPA 20 curve check. Yellow cells are inputs.
A4: Units | B4: US | C4: =IF(B4="Metric","L/min, m, bar","gpm, ft, psi")
A5: System demand
A6: Design flow | B6: 750 | C6: =IF($B$4="Metric","L/min","gpm") | E6: Metric example: 2839 L/min, 6.9 bar, 9 m, 0.3 bar, 1.5 m, round 0.5 bar, limits 6 / 4.5 m/s
A7: Residual pressure at remote point | B7: 100 | C7: =IF($B$4="Metric","bar","psi")
A8: Elevation, pump discharge to highest point | B8: 30 | C8: =IF($B$4="Metric","m","ft")
A9: Other losses (backflow, alarm valve, meter) | B9: 5 | C9: =IF($B$4="Metric","bar","psi")
A10: Suction: water above pump (+) / lift (−) | B10: 5 | C10: =IF($B$4="Metric","m","ft")
A11: Safety margin | B11: 0 | C11: %
A12: Round pump pressure up to | B12: 10 | C12: =IF($B$4="Metric","bar","psi")
A13: Velocity limit, discharge | B13: 20 | C13: =IF($B$4="Metric","m/s","ft/s")
A14: Velocity limit, suction | B14: 15 | C14: =IF($B$4="Metric","m/s","ft/s")
A16: Pipe segments (suction S and discharge D, in series). Leave Flow blank to use design flow. Length/flow in the units chosen above.
A17: Velocity unit follows Units; fitting counts are numbers of each fitting.
A18: Segment | B18: Type | C18: Size | D18: Sch | E18: Length | F18: Flow (opt.) | G18: C | H18: 90° elbow (std) | I18: 90° elbow (long) | J18: 45° elbow | K18: Tee (run) | L18: Tee/cross (branch) | M18: Gate valve | N18: Butterfly valve | O18: Swing check | P18: ID (in) | Q18: Flow (gpm) | R18: Velocity | S18: Friction (psi/ft) | T18: Fittings eq. (ft) | U18: Loss (psi) | V18: Velocity check
A19: Suction line | B19: S | C19: 8" | D19: 40 | E19: 20 | G19: 120 | H19: 1 | M19: 1 | P19: =IF($C19="","",INDEX(Data!$C$3:$D$14,MATCH($C19,Data!$A$3:$A$14,0),IF($D19=10,2,1))) | Q19: =IF($C19="","",IF($F19>0,$F19,$B$6)*Data!$O$2) | R19: =IF($C19="","",0.4085*Q19/P19^2*Data!$O$5) | S19: =IF($C19="","",4.52*Q19^1.85/($G19^1.85*P19^4.87)) | T19: =IF($C19="","",SUMPRODUCT($H19:$O19,INDEX(Data!$C$20:$J$31,MATCH($C19,Data!$A$20:$A$31,0),0))*($G19/120)^1.85) | U19: =IF($C19="","",S19*($E19*Data!$O$3+T19)) | V19: =IF($C19="","",IF(R19<=IF($B19="S",$B$14,$B$13),"OK","CHECK - above limit"))
A20: Pump room header | B20: D | C20: 8" | D20: 40 | E20: 160 | G20: 120 | H20: 2 | L20: 1 | M20: 1 | O20: 1 | P20: =IF($C20="","",INDEX(Data!$C$3:$D$14,MATCH($C20,Data!$A$3:$A$14,0),IF($D20=10,2,1))) | Q20: =IF($C20="","",IF($F20>0,$F20,$B$6)*Data!$O$2) | R20: =IF($C20="","",0.4085*Q20/P20^2*Data!$O$5) | S20: =IF($C20="","",4.52*Q20^1.85/($G20^1.85*P20^4.87)) | T20: =IF($C20="","",SUMPRODUCT($H20:$O20,INDEX(Data!$C$20:$J$31,MATCH($C20,Data!$A$20:$A$31,0),0))*($G20/120)^1.85) | U20: =IF($C20="","",S20*($E20*Data!$O$3+T20)) | V20: =IF($C20="","",IF(R20<=IF($B20="S",$B$14,$B$13),"OK","CHECK - above limit"))
A21: Riser feed main | B21: D | C21: 6" | D21: 40 | E21: 300 | G21: 120 | H21: 3 | I21: 2 | M21: 1 | P21: =IF($C21="","",INDEX(Data!$C$3:$D$14,MATCH($C21,Data!$A$3:$A$14,0),IF($D21=10,2,1))) | Q21: =IF($C21="","",IF($F21>0,$F21,$B$6)*Data!$O$2) | R21: =IF($C21="","",0.4085*Q21/P21^2*Data!$O$5) | S21: =IF($C21="","",4.52*Q21^1.85/($G21^1.85*P21^4.87)) | T21: =IF($C21="","",SUMPRODUCT($H21:$O21,INDEX(Data!$C$20:$J$31,MATCH($C21,Data!$A$20:$A$31,0),0))*($G21/120)^1.85) | U21: =IF($C21="","",S21*($E21*Data!$O$3+T21)) | V21: =IF($C21="","",IF(R21<=IF($B21="S",$B$14,$B$13),"OK","CHECK - above limit"))
P22: =IF($C22="","",INDEX(Data!$C$3:$D$14,MATCH($C22,Data!$A$3:$A$14,0),IF($D22=10,2,1))) | Q22: =IF($C22="","",IF($F22>0,$F22,$B$6)*Data!$O$2) | R22: =IF($C22="","",0.4085*Q22/P22^2*Data!$O$5) | S22: =IF($C22="","",4.52*Q22^1.85/($G22^1.85*P22^4.87)) | T22: =IF($C22="","",SUMPRODUCT($H22:$O22,INDEX(Data!$C$20:$J$31,MATCH($C22,Data!$A$20:$A$31,0),0))*($G22/120)^1.85) | U22: =IF($C22="","",S22*($E22*Data!$O$3+T22)) | V22: =IF($C22="","",IF(R22<=IF($B22="S",$B$14,$B$13),"OK","CHECK - above limit"))
P23: =IF($C23="","",INDEX(Data!$C$3:$D$14,MATCH($C23,Data!$A$3:$A$14,0),IF($D23=10,2,1))) | Q23: =IF($C23="","",IF($F23>0,$F23,$B$6)*Data!$O$2) | R23: =IF($C23="","",0.4085*Q23/P23^2*Data!$O$5) | S23: =IF($C23="","",4.52*Q23^1.85/($G23^1.85*P23^4.87)) | T23: =IF($C23="","",SUMPRODUCT($H23:$O23,INDEX(Data!$C$20:$J$31,MATCH($C23,Data!$A$20:$A$31,0),0))*($G23/120)^1.85) | U23: =IF($C23="","",S23*($E23*Data!$O$3+T23)) | V23: =IF($C23="","",IF(R23<=IF($B23="S",$B$14,$B$13),"OK","CHECK - above limit"))
P24: =IF($C24="","",INDEX(Data!$C$3:$D$14,MATCH($C24,Data!$A$3:$A$14,0),IF($D24=10,2,1))) | Q24: =IF($C24="","",IF($F24>0,$F24,$B$6)*Data!$O$2) | R24: =IF($C24="","",0.4085*Q24/P24^2*Data!$O$5) | S24: =IF($C24="","",4.52*Q24^1.85/($G24^1.85*P24^4.87)) | T24: =IF($C24="","",SUMPRODUCT($H24:$O24,INDEX(Data!$C$20:$J$31,MATCH($C24,Data!$A$20:$A$31,0),0))*($G24/120)^1.85) | U24: =IF($C24="","",S24*($E24*Data!$O$3+T24)) | V24: =IF($C24="","",IF(R24<=IF($B24="S",$B$14,$B$13),"OK","CHECK - above limit"))
P25: =IF($C25="","",INDEX(Data!$C$3:$D$14,MATCH($C25,Data!$A$3:$A$14,0),IF($D25=10,2,1))) | Q25: =IF($C25="","",IF($F25>0,$F25,$B$6)*Data!$O$2) | R25: =IF($C25="","",0.4085*Q25/P25^2*Data!$O$5) | S25: =IF($C25="","",4.52*Q25^1.85/($G25^1.85*P25^4.87)) | T25: =IF($C25="","",SUMPRODUCT($H25:$O25,INDEX(Data!$C$20:$J$31,MATCH($C25,Data!$A$20:$A$31,0),0))*($G25/120)^1.85) | U25: =IF($C25="","",S25*($E25*Data!$O$3+T25)) | V25: =IF($C25="","",IF(R25<=IF($B25="S",$B$14,$B$13),"OK","CHECK - above limit"))
P26: =IF($C26="","",INDEX(Data!$C$3:$D$14,MATCH($C26,Data!$A$3:$A$14,0),IF($D26=10,2,1))) | Q26: =IF($C26="","",IF($F26>0,$F26,$B$6)*Data!$O$2) | R26: =IF($C26="","",0.4085*Q26/P26^2*Data!$O$5) | S26: =IF($C26="","",4.52*Q26^1.85/($G26^1.85*P26^4.87)) | T26: =IF($C26="","",SUMPRODUCT($H26:$O26,INDEX(Data!$C$20:$J$31,MATCH($C26,Data!$A$20:$A$31,0),0))*($G26/120)^1.85) | U26: =IF($C26="","",S26*($E26*Data!$O$3+T26)) | V26: =IF($C26="","",IF(R26<=IF($B26="S",$B$14,$B$13),"OK","CHECK - above limit"))
A27: Equivalent lengths for fittings with no listed value for that size are counted as zero (see Data sheet).
A29: Result
A30: Residual pressure at remote point | B30: =B7*Data!$O$4/Data!$O$4 | C30: =IF($B$4="Metric","bar","psi")
A31: Static head (elevation) | B31: =B8*Data!$O$3*Data!$O$7/Data!$O$4 | C31: =IF($B$4="Metric","bar","psi")
A32: Friction loss, discharge pipe and fittings | B32: =SUMIF($B$19:$B$26,"D",$U$19:$U$26)/Data!$O$4 | C32: =IF($B$4="Metric","bar","psi")
A33: Other losses | B33: =B9 | C33: =IF($B$4="Metric","bar","psi")
A34: Required discharge pressure | B34: =SUM(B30:B33) | C34: =IF($B$4="Metric","bar","psi")
A35: Available suction pressure (static − suction friction) | B35: =(B10*Data!$O$3*Data!$O$7-SUMIF($B$19:$B$26,"S",$U$19:$U$26))/Data!$O$4 | C35: =IF($B$4="Metric","bar","psi")
A36: Net pump pressure required | B36: =B34-B35 | C36: =IF($B$4="Metric","bar","psi")
A37: With safety margin | B37: =B36*(1+B11/100) | C37: =IF($B$4="Metric","bar","psi")
A38: Design net pressure (rounded up) | B38: =CEILING(B37-0.000001,B12) | C38: =IF($B$4="Metric","bar","psi")
A39: Pump rating (next standard flow) | B39: =IF(B6*Data!$O$2>5000,"confirm with manufacturer",INDEX(Data!$L$2:$L$22,COUNTIF(Data!$L$2:$L$22,"<"&(B6*Data!$O$2-0.000001))+1)/Data!$O$2) | C39: =IF($B$4="Metric","L/min","gpm")
A40: Velocity checks | B40: =IF(COUNTIF($V$19:$V$26,"CHECK*")=0,"All segments OK",COUNTIF($V$19:$V$26,"CHECK*")&" segment(s) above limit")
A42: Pump curve check (NFPA 20) - enter the selected pump's values
A43: Rated net pressure | B43: =B38 | C43: =IF($B$4="Metric","bar","psi")
A44: Shutoff (churn) pressure | C44: =IF($B$4="Metric","bar","psi")
...

Sheet Data
A1: Pipe data (internal diameter, in) | L1: Standard rated flows (gpm) | N1: Unit factors (driven by Units cell on Calc)
A2: Nominal | B2: DN | C2: ID Sch 40 (in) | D2: ID Sch 10 (in) | L2: 25 | N2: Flow → gpm | O2: =IF((Calc!$B$4="Metric"),1/3.78541,1)
A3: 1" | B3: 25 | C3: 1.049 | D3: 1.097 | L3: 50 | N3: Length → ft | O3: =IF((Calc!$B$4="Metric"),1/0.3048,1)
A4: 1-1/4" | B4: 32 | C4: 1.38 | D4: 1.442 | L4: 100 | N4: Pressure → psi | O4: =IF((Calc!$B$4="Metric"),14.5038,1)
A5: 1-1/2" | B5: 40 | C5: 1.61 | D5: 1.682 | L5: 150 | N5: Velocity: display ← ft/s | O5: =IF((Calc!$B$4="Metric"),0.3048,1)
A6: 2" | B6: 50 | C6: 2.067 | D6: 2.157 | L6: 200
A7: 2-1/2" | B7: 65 | C7: 2.469 | D7: 2.635 | L7: 250 | N7: Water static head (psi/ft) | O7: 0.433
A8: 3" | B8: 80 | C8: 3.068 | D8: 3.26 | L8: 300
A9: 4" | B9: 100 | C9: 4.026 | D9: 4.26 | L9: 400
A10: 5" | B10: 125 | C10: 5.047 | D10: 5.295 | L10: 450
A11: 6" | B11: 150 | C11: 6.065 | D11: 6.357 | L11: 500
A12: 8" | B12: 200 | C12: 7.981 | D12: 8.329 | L12: 750
A13: 10" | B13: 250 | C13: 10.02 | D13: 10.42 | L13: 1000
A14: 12" | B14: 300 | C14: 11.938 | D14: 12.39 | L14: 1250
L15: 1500
L16: 2000
L17: 2500
A18: Equivalent length of fittings (ft), Schedule 40 steel, C=120 (commonly published NFPA 13 values; blank = not listed) | L18: 3000
A19: Nominal | B19: DN | C19: 90° elbow (std) | D19: 90° elbow (long) | E19: 45° elbow | F19: Tee (run) | G19: Tee/cross (branch) | H19: Gate valve | I19: Butterfly valve | J19: Swing check | L19: 3500
A20: 1" | B20: 25 | C20: 2 | D20: 1 | E20: 1 | F20: 1 | G20: 5 | J20: 5 | L20: 4000
A21: 1-1/4" | B21: 32 | C21: 3 | D21: 2 | E21: 1 | F21: 1 | G21: 6 | J21: 7 | L21: 4500
A22: 1-1/2" | B22: 40 | C22: 4 | D22: 2 | E22: 2 | F22: 2 | G22: 8 | H22: 1 | J22: 9 | L22: 5000
A23: 2" | B23: 50 | C23: 5 | D23: 3 | E23: 2 | F23: 4 | G23: 10 | H23: 1 | I23: 6 | J23: 11
A24: 2-1/2" | B24: 65 | C24: 6 | D24: 4 | E24: 3 | F24: 5 | G24: 12 | H24: 1 | I24: 7 | J24: 14
A25: 3" | B25: 80 | C25: 7 | D25: 5 | E25: 3 | F25: 5 | G25: 15 | H25: 1 | I25: 10 | J25: 16
A26: 4" | B26: 100 | C26: 10 | D26: 6 | E26: 4 | F26: 6 | G26: 20 | H26: 2 | I26: 12 | J26: 22
A27: 5" | B27: 125 | C27: 12 | D27: 8 | E27: 5 | F27: 8 | G27: 25 | H27: 2 | I27: 9 | J27: 27
A28: 6" | B28: 150 | C28: 14 | D28: 9 | E28: 7 | F28: 10 | G28: 30 | H28: 3 | I28: 10 | J28: 32
A29: 8" | B29: 200 | C29: 18 | D29: 13 | E29: 9 | F29: 12 | G29: 35 | H29: 4 | I29: 12 | J29: 45
A30: 10" | B30: 250 | C30: 22 | D30: 16 | E30: 11 | F30: 15 | G30: 50 | H30: 5 | I30: 15 | J30: 55
A31: 12" | B31: 300 | C31: 27 | D31: 18 | E31: 13 | F31: 18 | G31: 60 | H31: 6 | I31: 18 | J31: 65
